BEGIN:VCALENDAR
VERSION:2.0
PRODID:-//wp-events-plugin.com//7.2.3.1//EN
TZID:Europe/Rome
X-WR-TIMEZONE:Europe/Rome
BEGIN:VEVENT
UID:34@ncseregno.it
DTSTART;TZID=Europe/Rome;VALUE=DATE:20250517
DTEND;TZID=Europe/Rome;VALUE=DATE:20250518
DTSTAMP:20241108T142730Z
URL:https://ncseregno.it/events/distanze-speciali-esordienti/
SUMMARY:Distanze Speciali Esordienti
DESCRIPTION:
ATTACH;FMTTYPE=image/jpeg:https://ncseregno.it/wp-content/uploads/2024/11/
 Nuovo_Logo_Federnuoto.png
CATEGORIES:Esordienti A
LOCATION:Piscina D.Samuele\, Via Trani\, 1\, Milano\, MI\, 20138\, Lombardi
 a\, Italia
X-APPLE-STRUCTURED-LOCATION;VALUE=URI;X-ADDRESS=Via Trani\, 1\, Milano\, MI
 \, 20138\, Lombardia\, Italia;X-APPLE-RADIUS=100;X-TITLE=Piscina D.Samuele
 :geo:0,0
END:VEVENT
BEGIN:VTIMEZONE
TZID:Europe/Rome
X-LIC-LOCATION:Europe/Rome
BEGIN:DAYLIGHT
DTSTART:20250330T030000
TZOFFSETFROM:+0100
TZOFFSETTO:+0200
TZNAME:CEST
END:DAYLIGHT
END:VTIMEZONE
END:VCALENDAR