BEGIN:VCALENDAR
VERSION:2.0
PRODID:-//wp-events-plugin.com//7.2.3.1//EN
TZID:Europe/Rome
X-WR-TIMEZONE:Europe/Rome
BEGIN:VEVENT
UID:44@ncseregno.it
DTSTART;TZID=Europe/Rome;VALUE=DATE:20250805
DTEND;TZID=Europe/Rome;VALUE=DATE:20250810
DTSTAMP:20241108T143526Z
URL:https://ncseregno.it/events/camp-ita-categ-jun-cad-sen/
SUMMARY:CAMP. ITA CATEG. JUN/CAD/SEN
DESCRIPTION:
ATTACH;FMTTYPE=image/jpeg:https://ncseregno.it/wp-content/uploads/2024/11/
 Nuovo_Logo_Federnuoto.png
CATEGORIES:Assoluti
END:VEVENT
BEGIN:VTIMEZONE
TZID:Europe/Rome
X-LIC-LOCATION:Europe/Rome
BEGIN:DAYLIGHT
DTSTART:20250330T030000
TZOFFSETFROM:+0100
TZOFFSETTO:+0200
TZNAME:CEST
END:DAYLIGHT
END:VTIMEZONE
END:VCALENDAR