BEGIN:VCALENDAR
VERSION:2.0
PRODID:-//wp-events-plugin.com//7.2.3.1//EN
TZID:Europe/Rome
X-WR-TIMEZONE:Europe/Rome
BEGIN:VEVENT
UID:18@ncseregno.it
DTSTART;TZID=Europe/Rome;VALUE=DATE:20250216
DTEND;TZID=Europe/Rome;VALUE=DATE:20250217
DTSTAMP:20241108T140635Z
URL:https://ncseregno.it/events/2-distanze-speciali-categoria/
SUMMARY:2^ Distanze Speciali Categoria
DESCRIPTION:
ATTACH;FMTTYPE=image/jpeg:https://ncseregno.it/wp-content/uploads/2024/11/
 Nuovo_Logo_Federnuoto.png
CATEGORIES:Assoluti
END:VEVENT
BEGIN:VTIMEZONE
TZID:Europe/Rome
X-LIC-LOCATION:Europe/Rome
BEGIN:STANDARD
DTSTART:20241027T020000
TZOFFSETFROM:+0200
TZOFFSETTO:+0100
TZNAME:CET
END:STANDARD
END:VTIMEZONE
END:VCALENDAR